BEGIN:VCALENDAR
VERSION:2.0
PRODID:-//Benicia Amateur Radio Club - ECPv6.15.20//NONSGML v1.0//EN
CALSCALE:GREGORIAN
METHOD:PUBLISH
X-ORIGINAL-URL:https://beniciaarc.com
X-WR-CALDESC:Events for Benicia Amateur Radio Club
REFRESH-INTERVAL;VALUE=DURATION:PT1H
X-Robots-Tag:noindex
X-PUBLISHED-TTL:PT1H
BEGIN:VTIMEZONE
TZID:America/Los_Angeles
BEGIN:DAYLIGHT
TZOFFSETFROM:-0800
TZOFFSETTO:-0700
TZNAME:PDT
DTSTART:20240310T100000
END:DAYLIGHT
BEGIN:STANDARD
TZOFFSETFROM:-0700
TZOFFSETTO:-0800
TZNAME:PST
DTSTART:20241103T090000
END:STANDARD
BEGIN:DAYLIGHT
TZOFFSETFROM:-0800
TZOFFSETTO:-0700
TZNAME:PDT
DTSTART:20250309T100000
END:DAYLIGHT
BEGIN:STANDARD
TZOFFSETFROM:-0700
TZOFFSETTO:-0800
TZNAME:PST
DTSTART:20251102T090000
END:STANDARD
BEGIN:DAYLIGHT
TZOFFSETFROM:-0800
TZOFFSETTO:-0700
TZNAME:PDT
DTSTART:20260308T100000
END:DAYLIGHT
BEGIN:STANDARD
TZOFFSETFROM:-0700
TZOFFSETTO:-0800
TZNAME:PST
DTSTART:20261101T090000
END:STANDARD
END:VTIMEZONE
BEGIN:VEVENT
DTSTART;TZID=America/Los_Angeles:20251111T190000
DTEND;TZID=America/Los_Angeles:20251111T203000
DTSTAMP:20260419T105857
CREATED:20250211T162644Z
LAST-MODIFIED:20251111T160221Z
UID:6479-1762887600-1762893000@beniciaarc.com
SUMMARY:November 11th BARC Meeting
DESCRIPTION:On VETERANS DAY!!!! \nBARC Monthly Meeting in person and on Zoom. \n\n\nWe will attempt to show the meeting over Zoom.  If you are not a member of BARC’s group.io you can leave your info at the email or phone number below to receive an invitation to the Zoom meeting. \nWhen: \nVETERANS DAY!!! \n Tuesday\, November 11\, 2025 \n19:00 to 21:00 \n(UTC-07:00) America/Los Angeles \nWhere: \nBenicia Fire Department\, 150 Military West — Enter from West 2nd Street side — \n  \nBenicia Amateur Radio Club \ninfo@beniciaarc.com \n  \n  \n707-742-3227 \n \n 
URL:https://beniciaarc.com/event/november-barc-meeting/
LOCATION:Benicia Downtown Fire Station\, 150 Military West\, Benicia\, CA\, 94510\, United States
END:VEVENT
END:VCALENDAR