BEGIN:VCALENDAR
VERSION:2.0
PRODID:-//Benicia Amateur Radio Club - ECPv6.15.20//NONSGML v1.0//EN
CALSCALE:GREGORIAN
METHOD:PUBLISH
X-WR-CALNAME:Benicia Amateur Radio Club
X-ORIGINAL-URL:https://beniciaarc.com
X-WR-CALDESC:Events for Benicia Amateur Radio Club
REFRESH-INTERVAL;VALUE=DURATION:PT1H
X-Robots-Tag:noindex
X-PUBLISHED-TTL:PT1H
BEGIN:VTIMEZONE
TZID:America/Los_Angeles
BEGIN:DAYLIGHT
TZOFFSETFROM:-0800
TZOFFSETTO:-0700
TZNAME:PDT
DTSTART:20140309T100000
END:DAYLIGHT
BEGIN:STANDARD
TZOFFSETFROM:-0700
TZOFFSETTO:-0800
TZNAME:PST
DTSTART:20141102T090000
END:STANDARD
BEGIN:DAYLIGHT
TZOFFSETFROM:-0800
TZOFFSETTO:-0700
TZNAME:PDT
DTSTART:20150308T100000
END:DAYLIGHT
BEGIN:STANDARD
TZOFFSETFROM:-0700
TZOFFSETTO:-0800
TZNAME:PST
DTSTART:20151101T090000
END:STANDARD
BEGIN:DAYLIGHT
TZOFFSETFROM:-0800
TZOFFSETTO:-0700
TZNAME:PDT
DTSTART:20160313T100000
END:DAYLIGHT
BEGIN:STANDARD
TZOFFSETFROM:-0700
TZOFFSETTO:-0800
TZNAME:PST
DTSTART:20161106T090000
END:STANDARD
BEGIN:DAYLIGHT
TZOFFSETFROM:-0800
TZOFFSETTO:-0700
TZNAME:PDT
DTSTART:20170312T100000
END:DAYLIGHT
BEGIN:STANDARD
TZOFFSETFROM:-0700
TZOFFSETTO:-0800
TZNAME:PST
DTSTART:20171105T090000
END:STANDARD
END:VTIMEZONE
BEGIN:VEVENT
DTSTART;TZID=America/Los_Angeles:20160809T190000
DTEND;TZID=America/Los_Angeles:20160809T213000
DTSTAMP:20260420T125500
CREATED:20160702T103137Z
LAST-MODIFIED:20160811T112813Z
UID:1795-1470769200-1470778200@beniciaarc.com
SUMMARY:BARC's August 9th Meeting: Mike Paquette\, “The Care and Feeding of Ancient Electronics”
DESCRIPTION:At BARC’s August 9th Meeting \nMike Paquette\, AA6MP\, will be giving the presentation\,  \n“The Care and Feeding of Ancient Electronics”.  \nFeaturing his recent restoration of a 50 year old Heathkit receiver. \nIt meets in the Benicia Downtown Fire Station. \nDoors open at 7:00\, Meeting begins at 7:30 PM. \nPlease enter the 2nd St. side door.
URL:https://beniciaarc.com/event/barcs-august-9th-meeting-mike-paquette-the-care-and-feeding-of-ancient-electronics/
LOCATION:Benicia Downtown Fire Station\, 150 Military West\, Benicia\, CA\, 94510\, United States
ORGANIZER;CN="Benicia Amateur Radio Club (BARC)":MAILTO:info@beniciaarc.com
END:VEVENT
BEGIN:VEVENT
DTSTART;TZID=America/Los_Angeles:20160712T184500
DTEND;TZID=America/Los_Angeles:20160712T213000
DTSTAMP:20260420T125500
CREATED:20160630T043050Z
LAST-MODIFIED:20160710T144740Z
UID:1788-1468349100-1468359000@beniciaarc.com
SUMMARY:Slight Time change! Hidden Transmitter Hunt at BARC's July Meeting given By Art Mayoff\, AA6AM
DESCRIPTION:At BARC’s July 12th Meeting \nWe are having A Hidden transmitter Hunt. \nFor this special event our times have changed slightly: \nDoors will open at 6:45! \nIf you are interested in the body “fading” demonstration – It starts at 7:00. \n The Hidden Transmitter Hunt begins at 7:30. \nWe will meet in the Benicia Downtown Fire Station.  \nThe Transmitter Hunt will occur in the blocks surrounding the Fire Station.  \nBe sure to bring your HT radio\, and a flashlight.  \nAlso\, if you want to use one of Art’s “Attenutaters”\, please bring a 4′ string. \nRemember: \nDoors open at 6:45 \n Demonstration begins at 7:00  \n Meeting begins at 7:30 PM. \nPlease enter the 2nd St. side door. \nThere will be a pre-meeting meal at Elvia Rita’s at 5:00.  \nDetails: \nDoors open at 6:45 PM and the meeting starts at 7:00 PM for those who want to sit in on a short training session on Radio Direction Finding (RDF). We will show you how to use “Body Fade” in order to locate a hidden transmitter. We’ll also have a number of cylindrical attenuators to lend out. \n  \nThose who are experienced at Radio Direction Finding techniques are invited to arrive by 7:30 PM. \n  \nAt 7:30 we will begin a Walking Transmitter Hunt (T-Hunt) lasting approx 30 min\, followed by a short after-action discussion some time after 8 PM. We’ll form teams of two or three hams so we can help each other out. Transmitter hunting is a time honored tradition in Ham Radio and predates “Geocaching” by decades. This is always an enjoyable activity and I encourage beginners to team up with the others so we can all stumble our way to the hidden transmitter. \n  \nWhat to bring? \n– Your HT with a charged battery. \n– Program your radio to receive 446.250 (no pl)\, the input to Ben-2. \n– If your HT has a “Reverse” feature\, you can go to Ben-2 and push Reverse (RV)\, no programming necessary. \n– Practice how to adjust your squelch control in advance. You’ll need it. \n– If you own more than one HT\, a name brand radio is preferable over the $30 Chinese radios. One with a built in Attenuator is even better. \n– Leave your upgrade Rubber antenna at home. The poorer the antenna\, the better. (Yes. You heard me right. Crappy is Good). \n– A 4 foot piece of string or a 4 foot shoelace \n– For anyone who owns a directional UHF antenna\, bring it. \n– For those who don’t\, we’ll lend you one of our RF Attenutators which are similar to a long Pringles can. \n– Wear comfortable shoes \n– And in case it gets cold like last week\, bring a jacket just in case. \n  \nWe will conduct our business meeting after the break\, somewhere around 8:30 or so. \n  \nPre-Meeting Dinner \nWe will be getting together for a pre-meeting dinner at Elvia Rita’s at 5:00 PM\, (Note the time change)\, 725 First St\, Benicia. Please RSVP directly (aa6am@beniciaarc.com) or on the net\, if you plan to join in.
URL:https://beniciaarc.com/event/hidden-transmitter-hunt-at-barcs-july-meeting-given-by-art-aa6am/
LOCATION:Benicia Downtown Fire Station\, 150 Military West\, Benicia\, CA\, 94510\, United States
ORGANIZER;CN="Benicia Amateur Radio Club (BARC)":MAILTO:info@beniciaarc.com
END:VEVENT
BEGIN:VEVENT
DTSTART;TZID=America/Los_Angeles:20160614T193000
DTEND;TZID=America/Los_Angeles:20160614T213000
DTSTAMP:20260420T125500
CREATED:20160521T075123Z
LAST-MODIFIED:20160521T075501Z
UID:1732-1465932600-1465939800@beniciaarc.com
SUMMARY:June 14th BARC Meeting: ACS Captain Jim Nessen
DESCRIPTION:At the June 14th BARC Meeting a presentation will be given by Solano County ACS Team Captain\, James Nessen. He will be covering Solano Co. ACS
URL:https://beniciaarc.com/event/june-14th-barc-meeting-acs-captain-jim-nessen/
LOCATION:Benicia Downtown Fire Station\, 150 Military West\, Benicia\, CA\, 94510\, United States
ORGANIZER;CN="Benicia Amateur Radio Club (BARC)":MAILTO:info@beniciaarc.com
END:VEVENT
BEGIN:VEVENT
DTSTART;TZID=America/Los_Angeles:20160517T190000
DTEND;TZID=America/Los_Angeles:20160517T213000
DTSTAMP:20260420T125500
CREATED:20160516T064759Z
LAST-MODIFIED:20160516T070320Z
UID:1726-1463511600-1463520600@beniciaarc.com
SUMMARY:GOTA (Get on the Air) class- May 17\, 7:00-9:30 PM
DESCRIPTION:
URL:https://beniciaarc.com/event/gota-get-on-the-air-class-may-17-700-930-pm/
LOCATION:Benicia Downtown Fire Station\, 150 Military West\, Benicia\, CA\, 94510\, United States
END:VEVENT
BEGIN:VEVENT
DTSTART;TZID=America/Los_Angeles:20160510T190000
DTEND;TZID=America/Los_Angeles:20160510T213000
DTSTAMP:20260420T125500
CREATED:20160420T093651Z
LAST-MODIFIED:20160420T095218Z
UID:1662-1462906800-1462915800@beniciaarc.com
SUMMARY:Coming May 10th! "Packet and Outpost for Emergency Communications" by Bob Hewitt\, K6HEW.
DESCRIPTION:                                        \nAt BARC’s May 10th Monthly Meeting the presentation will be\, \n“Packet and Outpost for Emergency Communications” \nby Bob Hewitt\, K6HEW. \nIt will meet in the Downtown Fire station. \nDoors open at 7:00 PM\, and the meeting begins at 7:30. \nPlease enter via the 2nd St. side door. \nAll those interested are welcome!
URL:https://beniciaarc.com/event/coming-may-10th-packet-and-outpost-for-emergency-communications-by-bob-hewitt-k6hew/
LOCATION:Benicia Downtown Fire Station\, 150 Military West\, Benicia\, CA\, 94510\, United States
ORGANIZER;CN="Benicia Amateur Radio Club (BARC)":MAILTO:info@beniciaarc.com
END:VEVENT
BEGIN:VEVENT
DTSTART;TZID=America/Los_Angeles:20160412T193000
DTEND;TZID=America/Los_Angeles:20160412T213000
DTSTAMP:20260420T125500
CREATED:20160121T133720Z
LAST-MODIFIED:20160121T133720Z
UID:1540-1460489400-1460496600@beniciaarc.com
SUMMARY:At BARC’s April 12th\, Meeting\, “HF Radio Operations” by Gary Gross\, KE6QR.
DESCRIPTION:
URL:https://beniciaarc.com/event/at-barcs-april-12th-meeting-hf-radio-operations-by-gary-gross-ke6qr/
LOCATION:Benicia Downtown Fire Station\, 150 Military West\, Benicia\, CA\, 94510\, United States
ORGANIZER;CN="Benicia Amateur Radio Club (BARC)":MAILTO:info@beniciaarc.com
END:VEVENT
BEGIN:VEVENT
DTSTART;TZID=America/Los_Angeles:20160308T193000
DTEND;TZID=America/Los_Angeles:20160308T213000
DTSTAMP:20260420T125500
CREATED:20160121T124617Z
LAST-MODIFIED:20160121T125622Z
UID:1536-1457465400-1457472600@beniciaarc.com
SUMMARY:Cross Band Extenders Presentation by Bob Hewitt\, K6HEW\, coming March 8th!
DESCRIPTION:
URL:https://beniciaarc.com/event/cross-band-extenders-presentation-by-bob-hewitt-k6hew-coming-march-8th/
LOCATION:Benicia Downtown Fire Station\, 150 Military West\, Benicia\, CA\, 94510\, United States
ORGANIZER;CN="Benicia Amateur Radio Club (BARC)":MAILTO:info@beniciaarc.com
END:VEVENT
BEGIN:VEVENT
DTSTART;TZID=America/Los_Angeles:20160209T193000
DTEND;TZID=America/Los_Angeles:20160209T213000
DTSTAMP:20260420T125500
CREATED:20160122T042923Z
LAST-MODIFIED:20160122T043604Z
UID:1544-1455046200-1455053400@beniciaarc.com
SUMMARY:"Maritime Radio Historical Society: California Historical Coastal Radio Stations"\, by Richard Dillman\, founding member of the Maritime Radio Historical Society (MRHS) on February 9th!
DESCRIPTION:To learn more about the Maritime Radio Historical Society (MRHS): http://www.radiomarine.org/
URL:https://beniciaarc.com/event/barcs-february-9th-meeting-maritime-radio-historical-society-california-historical-coastal-radio-stations-given-by-richard-dillman-proud-founding-member-of-the-maritime-radio-historical-socie/
LOCATION:Benicia Downtown Fire Station\, 150 Military West\, Benicia\, CA\, 94510\, United States
ORGANIZER;CN="Benicia Amateur Radio Club (BARC)":MAILTO:info@beniciaarc.com
END:VEVENT
BEGIN:VEVENT
DTSTART;VALUE=DATE:20160112
DTEND;VALUE=DATE:20160113
DTSTAMP:20260420T125500
CREATED:20151113T052951Z
LAST-MODIFIED:20151113T054439Z
UID:1430-1452556800-1452643199@beniciaarc.com
SUMMARY:“Satellites & TDMA Stuff” Upcoming BARC Meeting
DESCRIPTION:At BARC’s Upcoming January 12th 2016 Monthly Meeting  \nOur Presentation will be: \n“Satellites and TDMA Stuff”  \nPresented by BARC founding Member Dick Gaul\, K2GMY.  \nIt meets in the Benicia Downtown Fire Station.  \nDoors open at 7:00\, Meeting begins at 7:30 PM.  \nPlease enter the 2nd St. side door. \n 
URL:https://beniciaarc.com/event/januarys-barc-meeting/
LOCATION:Benicia Downtown Fire Station\, 150 Military West\, Benicia\, CA\, 94510\, United States
ORGANIZER;CN="Benicia Amateur Radio Club (BARC)":MAILTO:info@beniciaarc.com
END:VEVENT
BEGIN:VEVENT
DTSTART;TZID=America/Los_Angeles:20151110T193000
DTEND;TZID=America/Los_Angeles:20151110T213000
DTSTAMP:20260420T125500
CREATED:20151029T013155Z
LAST-MODIFIED:20151029T013155Z
UID:1404-1447183800-1447191000@beniciaarc.com
SUMMARY:BARC November Meeting Presents: Mike Paquette\, AA6MP: "How to Get a Signal From Here  to There: Radio Propagation".
DESCRIPTION:
URL:https://beniciaarc.com/event/barc-november-meeting-presents-mike-paquette-aa6mp-how-to-get-a-signal-from-here-to-there-radio-propagation/
LOCATION:Benicia Downtown Fire Station\, 150 Military West\, Benicia\, CA\, 94510\, United States
END:VEVENT
BEGIN:VEVENT
DTSTART;TZID=America/Los_Angeles:20151015T193000
DTEND;TZID=America/Los_Angeles:20151015T213000
DTSTAMP:20260420T125500
CREATED:20150929T225150Z
LAST-MODIFIED:20150930T002624Z
UID:1387-1444937400-1444944600@beniciaarc.com
SUMMARY:Gordon West is Coming Thursday\, October 15th!
DESCRIPTION:Gordon West\, WB6NOA\, is Coming to Benicia! \nThe Benicia Amateur Radio Club is pleased to announce that internationally renowned author and educator\, Gordon West\, WB6NOA\, will be the guest speaker at its October meeting. \n His topic will be\, “Emergency Communications and Your Served Agencies”. \n“Help your city become a State ACS communication agency and involve ARES and RACES  [In Solano Co.-ACS] in EmComm support for events\, emergencies and disasters. We will also discuss how to build a strong relationship\, training requirements and the problems and pitfalls of volunteers working with a served agency.” \nIt will be a roundtable\, where your input is encouraged! Come join us for this very special evening! \nHe visits us on Thursday\, October 15 in the Downtown Benicia Fire Station\, 150 Military West. Doors open around 7:00 PM and the meeting starts at 7:30. Please enter via the West 2nd St side door
URL:https://beniciaarc.com/event/gordon-west-is-coming/
LOCATION:Benicia Downtown Fire Station\, 150 Military West\, Benicia\, CA\, 94510\, United States
END:VEVENT
BEGIN:VEVENT
DTSTART;VALUE=DATE:20150926
DTEND;VALUE=DATE:20150927
DTSTAMP:20260420T125500
CREATED:20150625T033301Z
LAST-MODIFIED:20150625T033301Z
UID:714-1443225600-1443311999@beniciaarc.com
SUMMARY:One-Day Ham Radio Class
DESCRIPTION:Placeholder
URL:https://beniciaarc.com/event/one-day-ham-radio-class-2/
LOCATION:Benicia Senior Center\, 187 East L Street\, Benicia\, CA\, United States
END:VEVENT
BEGIN:VEVENT
DTSTART;TZID=America/Los_Angeles:20150627T080000
DTEND;TZID=America/Los_Angeles:20150628T110000
DTSTAMP:20260420T125500
CREATED:20150513T040645Z
LAST-MODIFIED:20150513T051829Z
UID:628-1435392000-1435489200@beniciaarc.com
SUMMARY:Field Day\, 2015
DESCRIPTION:At the Fire Museum on June 27th and 28th. Location: 900 East Second St\, Benicia.
URL:https://beniciaarc.com/event/field-day-2015/
LOCATION:Benicia Fire Museum\, 900 East Second\, Benicia\, CA\, 94510\, United States
END:VEVENT
BEGIN:VEVENT
DTSTART;VALUE=DATE:20150509
DTEND;VALUE=DATE:20150510
DTSTAMP:20260420T125500
CREATED:20150322T045302Z
LAST-MODIFIED:20150322T045302Z
UID:543-1431129600-1431215999@beniciaarc.com
SUMMARY:One-Day Ham Radio Class
DESCRIPTION:Check out the description of this event in the site menu\, just below “Home”.
URL:https://beniciaarc.com/event/one-day-ham-radio-class/
LOCATION:CA
END:VEVENT
END:VCALENDAR