BEGIN:VCALENDAR
VERSION:2.0
PRODID:-//Benicia Amateur Radio Club - ECPv6.15.20//NONSGML v1.0//EN
CALSCALE:GREGORIAN
METHOD:PUBLISH
X-WR-CALNAME:Benicia Amateur Radio Club
X-ORIGINAL-URL:https://beniciaarc.com
X-WR-CALDESC:Events for Benicia Amateur Radio Club
REFRESH-INTERVAL;VALUE=DURATION:PT1H
X-Robots-Tag:noindex
X-PUBLISHED-TTL:PT1H
BEGIN:VTIMEZONE
TZID:America/Los_Angeles
BEGIN:DAYLIGHT
TZOFFSETFROM:-0800
TZOFFSETTO:-0700
TZNAME:PDT
DTSTART:20240310T100000
END:DAYLIGHT
BEGIN:STANDARD
TZOFFSETFROM:-0700
TZOFFSETTO:-0800
TZNAME:PST
DTSTART:20241103T090000
END:STANDARD
BEGIN:DAYLIGHT
TZOFFSETFROM:-0800
TZOFFSETTO:-0700
TZNAME:PDT
DTSTART:20250309T100000
END:DAYLIGHT
BEGIN:STANDARD
TZOFFSETFROM:-0700
TZOFFSETTO:-0800
TZNAME:PST
DTSTART:20251102T090000
END:STANDARD
BEGIN:DAYLIGHT
TZOFFSETFROM:-0800
TZOFFSETTO:-0700
TZNAME:PDT
DTSTART:20260308T100000
END:DAYLIGHT
BEGIN:STANDARD
TZOFFSETFROM:-0700
TZOFFSETTO:-0800
TZNAME:PST
DTSTART:20261101T090000
END:STANDARD
BEGIN:DAYLIGHT
TZOFFSETFROM:-0800
TZOFFSETTO:-0700
TZNAME:PDT
DTSTART:20270314T100000
END:DAYLIGHT
BEGIN:STANDARD
TZOFFSETFROM:-0700
TZOFFSETTO:-0800
TZNAME:PST
DTSTART:20271107T090000
END:STANDARD
END:VTIMEZONE
BEGIN:VEVENT
DTSTART;TZID=America/Los_Angeles:20251211T180000
DTEND;TZID=America/Los_Angeles:20251211T193000
DTSTAMP:20260419T155514
CREATED:20250211T163114Z
LAST-MODIFIED:20251209T035017Z
UID:6481-1765476000-1765481400@beniciaarc.com
SUMMARY:December 11th BARC Holiday Party!
DESCRIPTION:  \n\n\n\n\nBARC Holiday Party at Bruehol Benicia Brewing \n\n\n\n\n\n\n\n\nDate and Time \nThursday\, December 11\, 2025\n18:00 to 19:30 \n  \nLocation \n4828 E 2nd St\, Benicia\, CA 94510 \n\n\n\n\n\n\n\n\nThe event will be on Thursday\, December 11.  Setup will start at 5:30 pm. Feel free to drop in for a few minutes or stay until 8 pm closing.  The place is in the Fleetview Business Center in the industrial park. \nPotluck\, bring a dish to share. Beer and sodas available for purchase. Come share in some merriment and eye ball QSO with your fellow hams. \n  \n$25 white elephant gift exchange for those participating. Items should be tech/ham radio related! \n\n\n\n\nHope to see you there!
URL:https://beniciaarc.com/event/december-barc-meeting-holiday-party-tba/
LOCATION:Bruehol\, 4828 E 2nd St.\, Benicia\, CA\, 94510
END:VEVENT
BEGIN:VEVENT
DTSTART;TZID=America/Los_Angeles:20260113T190000
DTEND;TZID=America/Los_Angeles:20260113T210000
DTSTAMP:20260419T155514
CREATED:20260112T143953Z
LAST-MODIFIED:20260112T144706Z
UID:6632-1768330800-1768338000@beniciaarc.com
SUMMARY:BARC January 13th Monthly Meeting
DESCRIPTION:BARC Monthly Meeting \nBenicia Downtown Fire Station \n150 Military West\nPlease enter via the West 2nd Street side door.\n \nActivity: Winter Field Day and nomination for 2026 club officers! \n  \nYou’re also invited to gather with us at Pizza Pirate in Solano Square at 5:30 pm. \nWe will attempt to show the meeting over Zoom. \n19:00 to 21:00 \n(UTC-08:00)
URL:https://beniciaarc.com/event/barc-january-13th-monthly-meeting/
LOCATION:Benicia Downtown Fire Station\, 150 Military West\, Benicia\, CA\, 94510\, United States
ORGANIZER;CN="Benicia Amateur Radio Club (BARC)":MAILTO:info@beniciaarc.com
END:VEVENT
BEGIN:VEVENT
DTSTART;TZID=America/Los_Angeles:20260310T190000
DTEND;TZID=America/Los_Angeles:20260310T203000
DTSTAMP:20260419T155514
CREATED:20260212T182743Z
LAST-MODIFIED:20260212T183038Z
UID:6662-1773169200-1773174600@beniciaarc.com
SUMMARY:March 10th BARC Monthly Meeting
DESCRIPTION:
URL:https://beniciaarc.com/event/march-10th-barc-monthly-meeting/
ORGANIZER;CN="Benicia Amateur Radio Club (BARC)":MAILTO:info@beniciaarc.com
END:VEVENT
BEGIN:VEVENT
DTSTART;TZID=America/Los_Angeles:20260414T190000
DTEND;TZID=America/Los_Angeles:20260414T210000
DTSTAMP:20260419T155514
CREATED:20260212T182938Z
LAST-MODIFIED:20260409T181941Z
UID:6664-1776193200-1776200400@beniciaarc.com
SUMMARY:April 14th BARC Monthly Meeting
DESCRIPTION:BARC Monthly Meeting in person and on Zoom at 7:00 pm. \n\n\n\n\nBenicia Fire Department\, 150 Military West — Enter from West 2nd Street side — \nGuest speaker: Ross Levine W6WTF “Communicating with Satellites” \nYou’re also invited to gather with us at Pizza Pirate in Solano Square at 5:30 pm.
URL:https://beniciaarc.com/event/april-barc-monthly-meeting/
LOCATION:Benicia Downtown Fire Station\, 150 Military West\, Benicia\, CA\, 94510\, United States
ORGANIZER;CN="Benicia Amateur Radio Club (BARC)":MAILTO:info@beniciaarc.com
END:VEVENT
BEGIN:VEVENT
DTSTART;TZID=America/Los_Angeles:20260512T190000
DTEND;TZID=America/Los_Angeles:20260512T190000
DTSTAMP:20260419T155514
CREATED:20260212T185547Z
LAST-MODIFIED:20260212T185547Z
UID:6668-1778612400-1778612400@beniciaarc.com
SUMMARY:May Monthly BARC Meeting
DESCRIPTION:TBA
URL:https://beniciaarc.com/event/may-monthly-barc-meeting/
ORGANIZER;CN="Benicia Amateur Radio Club (BARC)":MAILTO:info@beniciaarc.com
END:VEVENT
BEGIN:VEVENT
DTSTART;TZID=America/Los_Angeles:20260609T080000
DTEND;TZID=America/Los_Angeles:20260609T080000
DTSTAMP:20260419T155514
CREATED:20260212T185725Z
LAST-MODIFIED:20260212T185725Z
UID:6670-1780992000-1780992000@beniciaarc.com
SUMMARY:June BARC Monthly Meeting
DESCRIPTION:TBA
URL:https://beniciaarc.com/event/june-barc-monthly-meeting/
ORGANIZER;CN="Benicia Amateur Radio Club (BARC)":MAILTO:info@beniciaarc.com
END:VEVENT
END:VCALENDAR