BEGIN:VCALENDAR
VERSION:2.0
PRODID:-//Benicia Amateur Radio Club - ECPv6.15.20//NONSGML v1.0//EN
CALSCALE:GREGORIAN
METHOD:PUBLISH
X-ORIGINAL-URL:https://beniciaarc.com
X-WR-CALDESC:Events for Benicia Amateur Radio Club
REFRESH-INTERVAL;VALUE=DURATION:PT1H
X-Robots-Tag:noindex
X-PUBLISHED-TTL:PT1H
BEGIN:VTIMEZONE
TZID:America/Los_Angeles
BEGIN:DAYLIGHT
TZOFFSETFROM:-0800
TZOFFSETTO:-0700
TZNAME:PDT
DTSTART:20250309T100000
END:DAYLIGHT
BEGIN:STANDARD
TZOFFSETFROM:-0700
TZOFFSETTO:-0800
TZNAME:PST
DTSTART:20251102T090000
END:STANDARD
BEGIN:DAYLIGHT
TZOFFSETFROM:-0800
TZOFFSETTO:-0700
TZNAME:PDT
DTSTART:20260308T100000
END:DAYLIGHT
BEGIN:STANDARD
TZOFFSETFROM:-0700
TZOFFSETTO:-0800
TZNAME:PST
DTSTART:20261101T090000
END:STANDARD
BEGIN:DAYLIGHT
TZOFFSETFROM:-0800
TZOFFSETTO:-0700
TZNAME:PDT
DTSTART:20270314T100000
END:DAYLIGHT
BEGIN:STANDARD
TZOFFSETFROM:-0700
TZOFFSETTO:-0800
TZNAME:PST
DTSTART:20271107T090000
END:STANDARD
END:VTIMEZONE
BEGIN:VEVENT
DTSTART;TZID=America/Los_Angeles:20260113T190000
DTEND;TZID=America/Los_Angeles:20260113T210000
DTSTAMP:20260419T091535
CREATED:20260112T143953Z
LAST-MODIFIED:20260112T144706Z
UID:6632-1768330800-1768338000@beniciaarc.com
SUMMARY:BARC January 13th Monthly Meeting
DESCRIPTION:BARC Monthly Meeting \nBenicia Downtown Fire Station \n150 Military West\nPlease enter via the West 2nd Street side door.\n \nActivity: Winter Field Day and nomination for 2026 club officers! \n  \nYou’re also invited to gather with us at Pizza Pirate in Solano Square at 5:30 pm. \nWe will attempt to show the meeting over Zoom. \n19:00 to 21:00 \n(UTC-08:00)
URL:https://beniciaarc.com/event/barc-january-13th-monthly-meeting/
LOCATION:Benicia Downtown Fire Station\, 150 Military West\, Benicia\, CA\, 94510\, United States
ORGANIZER;CN="Benicia Amateur Radio Club (BARC)":MAILTO:info@beniciaarc.com
END:VEVENT
END:VCALENDAR